BEGIN:VCALENDAR
VERSION:2.0
PRODID:-//hacksw/handcal//NONSGML v1.0//EN
BEGIN:VEVENT
SUMMARY:Open international karate full contact
UID:61d1da91-365c-4cbb-b1e3-9d88a748961d
DTSTART:20260222T073000Z
DTEND:20260222T153000Z
LOCATION:Localisation Institut National du Judo 75014 Paris
CATEGORIES:Sportif
STATUS:
DESCRIPTION:<p class="p1">8:30 - CONTROLE ET PESEE</p><p
 class="p1"><span class="s1">08:30 - 08:45 Junior
 Masculins</span></p><p class="p1">09:45 - 10:00 Senior
 Masculins</p><hr><p class="p2">9:00 - DEBUT DES
 COMPETITIONS</p><hr><hr><p class="p1"><span class="s1">FINALES A
 L’ISSUE DES ELIMINATOIRES</span></p><p class="p2"><span
 class="s2">REMISE DES RECOMPENSES A LA FIN DES CATEGORIES</span></p>
URL;VALUE=URI:https://karatecontactbachho.sportsregions.fr/evenements/2026/02/22/open-international-karate-full-contact-2416422
END:VEVENT
END:VCALENDAR
